BEGIN:VCALENDAR
VERSION:2.0
PRODID:-//Jaime D&iacute;az Lim&oacute;n - ECPv6.10.0//NONSGML v1.0//EN
CALSCALE:GREGORIAN
METHOD:PUBLISH
X-ORIGINAL-URL:https://www.jaimediazlimon.com
X-WR-CALDESC:Eventos para Jaime D&iacute;az Lim&oacute;n
REFRESH-INTERVAL;VALUE=DURATION:PT1H
X-Robots-Tag:noindex
X-PUBLISHED-TTL:PT1H
BEGIN:VTIMEZONE
TZID:UTC
BEGIN:STANDARD
TZOFFSETFROM:+0000
TZOFFSETTO:+0000
TZNAME:UTC
DTSTART:20180101T000000
END:STANDARD
END:VTIMEZONE
BEGIN:VEVENT
DTSTART;TZID=UTC:20180626T170000
DTEND;TZID=UTC:20180626T200000
DTSTAMP:20260420T125835
CREATED:20180620T031355Z
LAST-MODIFIED:20180620T031533Z
UID:1907-1530032400-1530043200@www.jaimediazlimon.com
SUMMARY:Congreso de Ciberseguridad
DESCRIPTION:Congreso Internacional de Ciberseguridad: Reunir a destacados expertos en la materia para identificar los avances\, áreas de oportunidad en la coordinación y acciones dirigidas a combatir el cibercrimen
URL:https://www.jaimediazlimon.com/eventos/congreso-de-ciberseguridad/
ATTACH;FMTTYPE=image/jpeg:https://www.jaimediazlimon.com/wp-content/uploads/2018/06/ciberseguridad.jpg
END:VEVENT
END:VCALENDAR